BEGIN:VCALENDAR
VERSION:2.0
PRODID:-//eventon.com NONSGML v1.0//EN
CALSCALE:GREGORIAN
METHOD:PUBLISH
BEGIN:VEVENT
UID:69e88f5d5133f
DTSTAMP:20260422T090533Z
DTSTART:20250412T170000Z
DTEND:20250412T235900Z
LOCATION:Peoria Civic Center Arena 201 SW Jefferson Ave in Peoria
SUMMARY:Peoria Civic Center - Jeff Dunham
DESCRIPTION:Jeff Dunham:  Artificial Intelligence Tour will be presented a
 t the Peoria Civic Center Arena beginning at 5 pm. Tickets start at $65 and
  are available at the box office by calling 800-745-3000 or online at http:
 //ticketmaster.com\nhttps://explorepeoria.com/events/peoria-civic-center-je
 ff-dunham/
URL:https://explorepeoria.com/events/peoria-civic-center-jeff-dunham/
END:VEVENT
END:VCALENDAR