BEGIN:VCALENDAR
VERSION:2.0
PRODID:-//eventon.com NONSGML v1.0//EN
CALSCALE:GREGORIAN
METHOD:PUBLISH
BEGIN:VEVENT
UID:69e7346f07b68
DTSTAMP:20260421T082519Z
DTSTART:20250221T013000Z
DTEND:20250221T055900Z
LOCATION:Peoria Civic Center Theater 201 SW Jefferson Ave in Peoria
SUMMARY:Peoria Civic Center - Ancient Aliens Live
DESCRIPTION:Ancient Aliens Live will be presented at the Peoria Civic Cente
 r Theater beginning at 7:30 pm. Tickets start at $39 and are available at t
 he Civic Center box office\,  by calling 800-745-3000\,  all Ticketmaster o
 utlets\,  or online at Ticketmaster.com\nhttps://explorepeoria.com/events/p
 eoria-civic-center-ancient-aliens-live-2025/
URL:https://explorepeoria.com/events/peoria-civic-center-ancient-aliens-live-2025/
END:VEVENT
END:VCALENDAR