BEGIN:VCALENDAR
VERSION:2.0
PRODID:-//eventon.com NONSGML v1.0//EN
CALSCALE:GREGORIAN
METHOD:PUBLISH
BEGIN:VEVENT
UID:69e63610228d9
DTSTAMP:20260420T142000Z
DTSTART:20241214T013000Z
DTEND:20241214T055900Z
LOCATION:Corn Stock Theatre Center Upper Bradley Park in Peoria
SUMMARY:Corn Stock Theatre - A Christmas Carol
DESCRIPTION:A Christmas Carol will be presented at the Corn Stock Theatre C
 enter (located in upper Bradley Park) beginning at 7:30 pm.  Tickets are $
 25 for adults and $20 for students with college ID and under are available 
 at the Corn Stock box office\,  by calling 309-676-2196 or online at www.Co
 rnStockTheatre.com[..]\nhttps://explorepeoria.com/events/corn-stock-theatre
 -a-christmas-carol/
URL:https://explorepeoria.com/events/corn-stock-theatre-a-christmas-carol/
END:VEVENT
END:VCALENDAR