BEGIN:VCALENDAR
VERSION:2.0
PRODID:-//eventon.com NONSGML v1.0//EN
CALSCALE:GREGORIAN
METHOD:PUBLISH
BEGIN:VEVENT
UID:69ea07579ee35
DTSTAMP:20260423T114943Z
DTSTART:20230902T163000Z
DTEND:20230903T045000Z
LOCATION:Peoria RiverFront
SUMMARY:Peoria Blues & Heritage Music Festival
DESCRIPTION:The 2023 Annual Peoria Blues &amp; Heritage Music Festival retu
 rns to the Peoria Riverfront beginning at 5 pm on Friday and continuing on 
 Saturday at 11:30 am.  Featuring a world-class line-up of artists includin
 g Christone "Kingfish" Ingram\,  Here Come The Mummies\,  The Record Compan
 y\,  Ana Popovic\,  Aaron Kamm &amp; The[..]\nhttps://explorepeoria.com/eve
 nts/peoria-blues-heritage-music-festival-2023-2/
URL:https://explorepeoria.com/events/peoria-blues-heritage-music-festival-2023-2/
END:VEVENT
END:VCALENDAR