BEGIN:VCALENDAR
VERSION:2.0
PRODID:-//eventon.com NONSGML v1.0//EN
CALSCALE:GREGORIAN
METHOD:PUBLISH
BEGIN:VEVENT
UID:69e4df8531922
DTSTAMP:20260419T135829Z
DTSTART:20190415T183000Z
DTEND:20190416T183000Z
LOCATION:ICC Performing Arts Center Main Stage Theatre 1 College Dr in East Peoria
SUMMARY:Jim Maloof Legacy of Love
DESCRIPTION:ICC will host the 7th Annual Jim Maloof Legacy of Love event at
  the ICC Performing Arts Center Main Stage Theatre on the East Peoria campu
 s at 6:30 pm. Tickets are $8 with proceeds benefitting St. Jude's Children'
 s Hospital and are available at the box office\,  by calling 309-694-5136 a
 t[..]\nhttps://explorepeoria.com/events/jim-maloof-legacy-of-love/
URL:https://explorepeoria.com/events/jim-maloof-legacy-of-love/
END:VEVENT
END:VCALENDAR