BEGIN:VCALENDAR
VERSION:2.0
PRODID:-//eventon.com NONSGML v1.0//EN
CALSCALE:GREGORIAN
METHOD:PUBLISH
BEGIN:VEVENT
UID:69eb971e1dbcf
DTSTAMP:20260424T161526Z
DTSTART:20230512T003000Z
DTEND:20230512T045000Z
LOCATION:Peoria Players Theatre 4300 N University St in Peoria
SUMMARY:Peoria Players Theatre - The Wedding Singer
DESCRIPTION:The Wedding Singer will be presented by Peoria Players Theatre 
 (located at 4300 N. University St. in Peoria) at 7:30 pm.   Tickets are $
 20 for adults\,  $15 for patrons 20 and younger and are available at the Pe
 oria Players box office\,  by calling 309-688-4473 or online at www.peoriap
 layers.org Online tickets[..]\nhttps://explorepeoria.com/events/peoria-play
 ers-theatre-the-wedding-singer-2/
URL:https://explorepeoria.com/events/peoria-players-theatre-the-wedding-singer-2/
END:VEVENT
END:VCALENDAR