BEGIN:VCALENDAR
VERSION:2.0
PRODID:-//eventon.com NONSGML v1.0//EN
CALSCALE:GREGORIAN
METHOD:PUBLISH
BEGIN:VEVENT
UID:69e734c8e2c2d
DTSTAMP:20260421T082648Z
DTSTART:20230318T230000Z
DTEND:20230319T045000Z
LOCATION:Peoria Riverfront Museum Dome Planetarium 222 SW Washington St in Peoria
SUMMARY:Riverfront Museum - Laser Light Night
DESCRIPTION:Laser Light Night will take place at the Peoria Riverfront Muse
 um Dome Planetarium (located at 222 NW Water St in Peoria).  Featuring Las
 er Aerosmith at 6 pm\,  Laser Zeppelin: Lazed and Confused at 7:15 pm\,  an
 d Laser Beyonce at 8:30 pm\,  admission for members is $7 and $10 for the[.
 .]\nhttps://explorepeoria.com/events/riverfront-museum-laser-light-night-ma
 rch/
URL:https://explorepeoria.com/events/riverfront-museum-laser-light-night-march/
END:VEVENT
END:VCALENDAR