BEGIN:VCALENDAR
VERSION:2.0
PRODID:-//eventon.com NONSGML v1.0//EN
CALSCALE:GREGORIAN
METHOD:PUBLISH
BEGIN:VEVENT
UID:69ea31504ecb8
DTSTAMP:20260423T144848Z
DTSTART:20230210T233000Z
DTEND:20230211T055000Z
LOCATION:The Table 8305 N Allen Rd.
SUMMARY:The Table Peoria - Valentine's Dinner
DESCRIPTION:A Valentine's Dinner will take place at The Table (located at 8
 305 N Allen Rd. in Peoria) beginning at 5:30 pm.  Featuring live blues mus
 ic provided by Harvest Sons\,  a family style BBQ platter meal by Chef Ryan
  Foster plus guest mixologist Carri Keltonto.  Tickets are $75 per person 
 and[..]\nhttps://explorepeoria.com/events/the-table-peoria-valentines-dinne
 r/
URL:https://explorepeoria.com/events/the-table-peoria-valentines-dinner/
END:VEVENT
END:VCALENDAR