BEGIN:VCALENDAR
VERSION:2.0
PRODID:-//eventon.com NONSGML v1.0//EN
CALSCALE:GREGORIAN
METHOD:PUBLISH
BEGIN:VEVENT
UID:69ea31517f5b3
DTSTAMP:20260423T144849Z
DTSTART:20230210T013000Z
DTEND:20230210T055000Z
LOCATION:Peoria Players Theatre 4300 N University St in Peoria
SUMMARY:Peoria Players Theatre - Gypsy
DESCRIPTION:Gypsy will be presented by Peoria Players Theatre (located at 4
 300 N. University St. in Peoria) at 7:30 pm.   Tickets are $20 for adults
 \,  $15 for patrons 20 and younger and are available at the Peoria Players 
 box office\,  by calling 309-688-4473 or online at www.peoriaplayers.org On
 line tickets go on[..]\nhttps://explorepeoria.com/events/peoria-players-the
 atre-gypsy-2/
URL:https://explorepeoria.com/events/peoria-players-theatre-gypsy-2/
END:VEVENT
END:VCALENDAR