BEGIN:VCALENDAR
VERSION:2.0
PRODID:-//eventon.com NONSGML v1.0//EN
CALSCALE:GREGORIAN
METHOD:PUBLISH
BEGIN:VEVENT
UID:69ea307f64914
DTSTAMP:20260423T144519Z
DTSTART:20230214T220000Z
DTEND:20230215T020000Z
LOCATION:Gone Ax Throwing
SUMMARY:Gone Axe Throwing - Axe the Ex
DESCRIPTION:Axe the Ex\,  a special Valentine's event will be held at Gone 
 Axe Throwing (located at 1001 SW Washington\,  Suite 5-201 in Peoria) from 
 4 - 8 pm.  Bring a memento to throw at (no pictures) or purchase a heart t
 o write that ex’s name on.  Cost to participate is[..]\nhttps://explorep
 eoria.com/events/gone-axe-throwing-axe-the-ex/
URL:https://explorepeoria.com/events/gone-axe-throwing-axe-the-ex/
END:VEVENT
END:VCALENDAR