BEGIN:VCALENDAR
VERSION:2.0
PRODID:-//eventon.com NONSGML v1.0//EN
CALSCALE:GREGORIAN
METHOD:PUBLISH
BEGIN:VEVENT
UID:69ea31ec8af7a
DTSTAMP:20260423T145124Z
DTSTART:20230211T233000Z
DTEND:20230212T030000Z
LOCATION:Peoria Zoo 2320 N Prospect Rd in Peoria
SUMMARY:Peoria Zoo - Murder Mystery
DESCRIPTION:The Murder Mystery "Wedding Reception Demise" will take place a
 t Peoria Zoo (located at 2320 N. Prospect Rd\,  Peoria) from 5:30 - 9 pm. F
 eaturing dinner\,  adult beverages and the show\,  tickets are $45 per pers
 on for ages 16 and over only. For more information\,  call 309-681-3500 or 
 visit www.peoriazoo.org\nhttps://explorepeoria.com/events/peoria-zoo-murder
 -mystery/
URL:https://explorepeoria.com/events/peoria-zoo-murder-mystery/
END:VEVENT
END:VCALENDAR