BEGIN:VCALENDAR
VERSION:2.0
PRODID:-//eventon.com NONSGML v1.0//EN
CALSCALE:GREGORIAN
METHOD:PUBLISH
BEGIN:VEVENT
UID:69eb98dbae63b
DTSTAMP:20260424T162251Z
DTSTART:20221001T140000Z
DTEND:20221001T220000Z
LOCATION:Fulton County
SUMMARY:2022 Spoon River Drive
DESCRIPTION:The Annual Spoon River Drive will take place from 9 am - 5 pm o
 n Saturday &amp; Sunday in the Fulton County towns of Astoria\,  Avon\,  Be
 rnadotte\,  Canton\,  Cuba\,  Duncan Mills\,  Ellisville\,  Farmington\,  I
 pava\,  Lewistown\,  Orchard Mills\,  Smithfield\,  St. David and Vermont c
 overing more than 100 miles in Fulton County. [..]\nhttps://explorepeoria.
 com/events/2022-spoon-river-drive/
URL:https://explorepeoria.com/events/2022-spoon-river-drive/
END:VEVENT
END:VCALENDAR