BEGIN:VCALENDAR
VERSION:2.0
PRODID:-//eventon.com NONSGML v1.0//EN
CALSCALE:GREGORIAN
METHOD:PUBLISH
BEGIN:VEVENT
UID:69e8a6128a17f
DTSTAMP:20260422T104226Z
DTSTART:20190315T170000Z
DTEND:20190315T235000Z
LOCATION:Carver Arena at the Peoria Civic Center 201 SW Jefferson Ave in Peoria
SUMMARY:IHSA Three-Point Shootout
DESCRIPTION:The IHSA 3A/4A Three-Point Shootout will take place in Carver A
 rena at the Peoria Civic Center beginning at 5:00 pm. This event is free to
  the public. The Three-Point Shootout is a part of the IHSA Boy's Basketbal
 l Tournament\,  which will take place Friday and Saturday. For tickets to F
 riday[..]\nhttps://explorepeoria.com/events/ihsa-three-point-shootout-2/
URL:https://explorepeoria.com/events/ihsa-three-point-shootout-2/
END:VEVENT
END:VCALENDAR