BEGIN:VCALENDAR
VERSION:2.0
PRODID:-//eventon.com NONSGML v1.0//EN
CALSCALE:GREGORIAN
METHOD:PUBLISH
BEGIN:VEVENT
UID:69e99ce668904
DTSTAMP:20260423T041534Z
DTSTART:20220708T010000Z
DTEND:20220708T030000Z
LOCATION:Contemporary Art Center 305 SW Water St in Peoria
SUMMARY:Contemporary Art Center - Whisper & Shout
DESCRIPTION:Whisper &amp; Shout will take place at the Contemporary Art Cen
 ter beginning at 8 pm. There will be an open mic for sharing and inspiring 
 poetry. Featuring poet Eve Bell\,  admission in advance online is $5 for me
 mbers\,  $8 for non-members\,  $3 for poets + fees until 7 pm the[..]\nhttp
 s://explorepeoria.com/events/contemporary-art-center-whisper-shout-july-202
 2/
URL:https://explorepeoria.com/events/contemporary-art-center-whisper-shout-july-2022/
END:VEVENT
END:VCALENDAR