BEGIN:VCALENDAR
VERSION:2.0
PRODID:-//eventon.com NONSGML v1.0//EN
CALSCALE:GREGORIAN
METHOD:PUBLISH
BEGIN:VEVENT
UID:69ea001a6b5de
DTSTAMP:20260423T111850Z
DTSTART:20220618T150000Z
DTEND:20220618T210000Z
LOCATION:Peoria Civic Center Theater 201 SW Jefferson Ave in Peoria
SUMMARY:Peoria Civic Center - Indie Author Book Expo
DESCRIPTION:The Indie Author Book Expo will take place in the Peoria Civic 
 Center Meeting Rooms 220\,  221 and 222 from 10 am - 4 pm. Come and experie
 nce the very best in local books and art. Free admission and goody bags. Fo
 r more information visit https://iabe515.wordpress.com/\nhttps://explorepe
 oria.com/events/peoria-civic-center-indie-author-book-expo/
URL:https://explorepeoria.com/events/peoria-civic-center-indie-author-book-expo/
END:VEVENT
END:VCALENDAR